BEGIN:VCALENDAR
VERSION:2.0
PRODID:-// - ECPv6.15.20//NONSGML v1.0//EN
CALSCALE:GREGORIAN
METHOD:PUBLISH
X-ORIGINAL-URL:https://smartitworld.tech
X-WR-CALDESC:Events for 
REFRESH-INTERVAL;VALUE=DURATION:PT1H
X-Robots-Tag:noindex
X-PUBLISHED-TTL:PT1H
BEGIN:VTIMEZONE
TZID:Asia/Karachi
BEGIN:STANDARD
TZOFFSETFROM:+0500
TZOFFSETTO:+0500
TZNAME:PKT
DTSTART:20250101T000000
END:STANDARD
END:VTIMEZONE
BEGIN:VEVENT
DTSTART;TZID=Asia/Karachi:20260423T080000
DTEND;TZID=Asia/Karachi:20260423T170000
DTSTAMP:20260423T155658
CREATED:20260423T094516Z
LAST-MODIFIED:20260423T095113Z
UID:72-1776931200-1776963600@smartitworld.tech
SUMMARY:International English Conference Japan 2026
DESCRIPTION:
URL:https://smartitworld.tech/events/international-english-conference-japan-2026/
ATTACH;FMTTYPE=image/webp:https://smartitworld.tech/wp-content/uploads/2026/04/5MkbG4XZ34LGRzaCdaH_M8rRGghZkcN0aaAb4kxxCxZHyxS4PLJ0hIe9S3u8Peri2Azk92SC-yg6JdETjGHyCDd1S32RTd9JSmiliyTME-0g8ddBXhxb7vpfjclrfYnN-04Z6-LVQGdf18Io64Cwi86Ti1_hULICL4DSNQJWwUiOasOE2ye_diOD0xfWYNTa.webp
END:VEVENT
BEGIN:VEVENT
DTSTART;TZID=Asia/Karachi:20260428T080000
DTEND;TZID=Asia/Karachi:20260428T170000
DTSTAMP:20260423T155658
CREATED:20260423T100810Z
LAST-MODIFIED:20260423T100810Z
UID:78-1777363200-1777395600@smartitworld.tech
SUMMARY:International AI Conference 2026
DESCRIPTION:
URL:https://smartitworld.tech/events/international-ai-conference-2026/
LOCATION:London\, United Kingdom
ATTACH;FMTTYPE=image/webp:https://smartitworld.tech/wp-content/uploads/2026/04/i.webp
END:VEVENT
BEGIN:VEVENT
DTSTART;TZID=Asia/Karachi:20260514T080000
DTEND;TZID=Asia/Karachi:20260514T170000
DTSTAMP:20260423T155658
CREATED:20260423T095256Z
LAST-MODIFIED:20260423T095300Z
UID:75-1778745600-1778778000@smartitworld.tech
SUMMARY:Global Researchers Event Lisbon 2026
DESCRIPTION:
URL:https://smartitworld.tech/events/global-researchers-event-lisbon-2026/
LOCATION:Lisbon\, Portugal
ATTACH;FMTTYPE=image/webp:https://smartitworld.tech/wp-content/uploads/2026/04/wwCj41pVsySXJWAOY9ppek-AGJWJFaEBKTEC8y-QMdHDSF3ZHlP9LIf_LSuRN0Qrs0RRSocgmHQEj6n30wBY4qGYT7CdjFqVUJTblzyW1ALBAwCxJsuB4LIJuc00QzZJUQ6Q1sUZMI_1xhqfsvUOEOVxVd02yuY6uCqBlqQ8RDhIkuMZgyRhXDrsCB-n3Bbq.webp
END:VEVENT
END:VCALENDAR